Workbook

Sheet Uitleg werking
A1: Dit bestand is bedoeld om U een schatting te laten maken van de energiekosten voor 2027
A2: Sommige getallen zijn nog niet definitief, maar we verwachten dat ze aardig kloppen
A3: Hoe werkt dit bestand?
A4: Voor het invullen kunt U in het blad "Invoer prijsafspraken" de gekaderde cellen invullen met de gegevens die U heeft gekregen.
A5: Dat kan zijn in uw lopende contract of uit een aanbieding
A6: Meestal worden de tarieven incl belasting en BTW gegeven, maar we hebben ook cellen gebruikt die het invullen van het kale tarief mogelijk maken.
A7: U moet echter wel een keuze maken, anders werkt het bestand niet goed.
A8: Dus of regel 5 (cel E5) of regel 7(cel E7) invullen en ook of regel 11 (cel E11) of regel13 (cel E13) en dan de andere "0" maken
A10: Vastrecht of leveringskosten leverancier worden ook vaak per maand of per jaar afgegeven
A11: Dan cel E25 en E34 vullen met bij maand (bedrag x 12/365) of bi jaar (bedrag /365)
A13: Er zijn 100den variaties te bedenken, maar dan wordt het onoverzichtelijk
A14: Mede om die reden gaan we uit van een vast contract

Sheet Invoer prijsafspraken
B2: Wat is zijn de kosten op jaarbasis?
B3: Normaal (piek) tarief
B4: Geef hier het bedrag op voor de tarief afspraak voor stroom normaal tarief. Zorg er dan voor dat cel E7 €0,00 is
D5: € | E5: 0
B6: Of geef hier het bedrag op voor het tarief incl energiebelasting en BTW voor stroom normaal. Zorg er dan voor dat cel E5 €0,00 is
D7: € | E7: 0.321
B8: Vul hier het geschatte verbruik in
E9: 2000 | F9: kWh
B10: Dal tarief
B11: Geef hier het bedrag op voor de kale tarief afspraak voor stroom dal tarief. Zorg er dan voor dat cel E14 leeg is €0,00 is
D12: € | E12: 0
B13: Of geef hier het bedrag op voor het tarief incl energiebelasting en BTW voor stroom dal. Zorg er dan voor dat cel E12 €0,00 is
D14: € | E14: 0.318
B15: Vul hier het geschatte verbruik in
E16: 1000 | F16: kWh
B17: Zonnepanelen
B18: Geef hier het bedrag op voor teruglevering vergoeding (wat jij ontvangt)
D19: € | E19: 0.0868
B20: Geef hier het bedrag op voor teruglevering kosten (wat jij moet betalen)
D21: € | E21: 0.056
B22: Vul hier het geschatte teruglever vermogen in
E23: 3000 | F23: kWh
B24: Geef hier het bedrag op voor vastrecht stroom (leveringskosten leverancier) per dag incl BTW
D25: € | E25: 0.372
B26: GAS
B27: Geef hier het bedrag op voor de tarief afspraak voor gas. Zorg er dan voor dat cel E30 €0,00 is
D28: € | E28: 0
B29: Of geef hier het bedrag op voor het tarief incl energiebelasting en BTW voor gas. Zorg er dan voor dat cel E28 €0,00 is
D30: € | E30: 1.714
B31: Vul hier het geschatte verbruik in
E32: 600 | F32: m³
B33: Geef hier het bedrag op voor vastrecht gas (leveringskosten leverancier) per dag
D34: € | E34: 0.26
B35: Vul hier de welkomsbonus in
D36: € | E36: 0
B37: ALLEEN DE GEKADERDE CELLEN INVULLEN!

Sheet schatting 2027
A1: basis stroom dubbel | B1: verbruik kWh | C1: tarief | D1: totaal
A2: prijs per kWh | B2: ='Invoer prijsafspraken'!$E$9 -> 2000 | C2: =IF('Invoer prijsafspraken'!E5=0,('Invoer prijsafspraken'!E7/1.21)-belastingen!B2,'Invoer prijsafspraken'!E5) -> 0.17728926 | D2: =C2*B2 -> 354.57851
A3: Energiebelasting | B3: ='Invoer prijsafspraken'!$E$9 -> 2000 | C3: =belastingen!B2 -> 0.088 | D3: =C3*B3 -> 176
A4: BTW | B4: ='Invoer prijsafspraken'!$E$9 -> 2000 | C4: =C3*0.21+C2*0.21 -> 0.055710744 | D4: =C4*B4 -> 111.42149
A5: normaal stroom | B5: ='Invoer prijsafspraken'!$E$9 -> 2000 | C5: =SUM(C2:C4) -> 0.321 | D5: =C5*B5 -> 642
A6: prijs per kWh | B6: ='Invoer prijsafspraken'!$E$16 -> 1000 | C6: =IF('Invoer prijsafspraken'!E12=0,('Invoer prijsafspraken'!E14/1.21)-belastingen!B2,'Invoer prijsafspraken'!E12) -> 0.17480992 | D6: =C6*B6 -> 174.80992
A7: Energiebelasting | B7: ='Invoer prijsafspraken'!$E$16 -> 1000 | C7: =belastingen!B2 -> 0.088 | D7: =C7*B7 -> 88
A8: BTW | B8: ='Invoer prijsafspraken'!$E$16 -> 1000 | C8: =C7*0.21+C6*0.21 -> 0.055190083 | D8: =C8*B8 -> 55.190083
A9: dal stroom | B9: ='Invoer prijsafspraken'!$E$16 -> 1000 | C9: =SUM(C6:C8) -> 0.318 | D9: =C9*B9 -> 318
A10: leveringskosten 2027 stroom* | B10: 365 | C10: ='vaste kosten'!B2 -> 0.372 | D10: =C10*B10 -> 135.78
A11: netbeheerkosten 2027 stroom | B11: =B10 -> 365 | C11: ='vaste kosten'!B4 -> 1.4601096 | D11: =C11*B11 -> 532.94
A12: basis teruglevering
A13: terugleververgoeding | B13: ='Invoer prijsafspraken'!E23 -> 3000 | C13: ='Invoer prijsafspraken'!E19 -> 0.0868 | D13: =-C13*B13 -> -260.4
A14: terugleverkosten | B14: ='Invoer prijsafspraken'!$E$23 -> 3000 | C14: ='Invoer prijsafspraken'!E21 -> 0.056 | D14: =C14*B14 -> 168
A15: vermindering belasting | B15: =belastingen!B10 -> 628.69 | D15: =-B15 -> -628.69
A16: totale kosten stroom | B16: ='Invoer prijsafspraken'!E9+'Invoer prijsafspraken'!E16 -> 3000 | D16: =SUM(D5+D9+D10+D11+D13+D14+D15) -> 907.63
A17: basis gas | B17: verbruik m³ | C17: tarief | D17: totaal
A18: prijs per m3 | B18: ='Invoer prijsafspraken'!$E$32 -> 600 | C18: =IF('Invoer prijsafspraken'!E28=0,('Invoer prijsafspraken'!E30/1.21)-belastingen!B5,'Invoer prijsafspraken'!E28) -> 0.80052893 | D18: =B18*C18 -> 480.31736
A19: Energiebelasting | B19: ='Invoer prijsafspraken'!$E$32 -> 600 | C19: =belastingen!B5 -> 0.616 | D19: =B19*C19 -> 369.6
A20: BTW | B20: ='Invoer prijsafspraken'!$E$32 -> 600 | C20: =C18*0.21+C19*0.21 -> 0.29747107 | D20: =B20*C20 -> 178.48264
A21: normaal gas | B21: ='Invoer prijsafspraken'!$E$32 -> 600 | C21: =SUM(C18:C20) -> 1.714 | D21: =B21*C21 -> 1028.4
A22: leveringskosten 2027 gas* | B22: =B10 -> 365 | C22: ='vaste kosten'!B5 -> 0.26 | D22: =B22*C22 -> 94.9
A23: netbeheerkosten 2027 gas | B23: =B10 -> 365 | C23: ='vaste kosten'!B6 -> 0.81731507 | D23: =B23*C23 -> 298.32
A24: totale kosten gas | B24: ='Invoer prijsafspraken'!E32 -> 600 | D24: =SUM(D21:D23) -> 1421.62
A26: welkomsbonus | B26: ='Invoer prijsafspraken'!E36 -> 0 | D26: =-B26 -> 0
A27: jaarnota 2027 | D27: =D16+D24+D26 -> 2329.25
A29: per maand | D29: =D27/12 -> 194.10417
A31: * vastrecht kosten leverancier

Sheet belastingen
A1: Energiebelastingen | B1: 2027
A2: Energiebelasting stroom | B2: 0.088
A3: BTW over bovenstaande | B3: =B2*21% -> 0.01848
A4: Totaal stroom/kWh | B4: =SUM(B2:B3) -> 0.10648
A5: Energiebelasting gas | B5: 0.616
A6: BTW over bovenstaande | B6: =B5*21% -> 0.12936
A7: Totaal gas/m³ | B7: =SUM(B5:B6) -> 0.74536
A8: Vermindering/jaar | B8: =B10/1.21 -> 519.57851
A9: BTW over bovenstaande | B9: =B8*21% -> 109.11149
A10: totaal vermindering energiebelasting | B10: 628.69

Sheet vaste kosten
A1: vaste kosten per dag | B1: basis 2027 | C1: Jaar
A2: leveringskosten stroom* | B2: ='Invoer prijsafspraken'!E25 -> 0.372 | C2: =119.88/1.21 -> 99.07438 | D2: gemiddelde kosten leveranciers
A3: terugleverkosten* | B3: ='Invoer prijsafspraken'!E21 -> 0.056
A4: netbeheerkosten stroom** | B4: =C4/365 -> 1.4601096 | C4: 532.94 | D4: verwachte kosten Enexis t/m 3 x25A
A5: leveringskosten gas* | B5: ='Invoer prijsafspraken'!E34 -> 0.26 | C5: =95.88/1.21 -> 79.239669 | D5: gemiddelde kosten leveranciers
A6: netbeheerkosten gas** | B6: =IF('Invoer prijsafspraken'!E32<500,G6/365,C6/365) -> 0.81731507 | C6: 298.32 | D6: verwachte kosten Enexis 500-4000m³ t/m G6 | F6: < 500 m³ | G6: 209.04
A9: * leverancier afhankelijk
A10: ** opgave ENEXIS op jaarbasis

Sheet Grafiek schatting
